BEGIN:VCALENDAR
NAME:Radarr Movies Calendar
PRODID:-//github.com/ical-org/ical.net//NONSGML ical.net 4.0//EN
VERSION:2.0
X-WR-CALNAME:Radarr Movies Calendar
BEGIN:VEVENT
CATEGORIES:Lucasfilm Ltd.
DESCRIPTION:The evil Empire has fallen\, and Imperial warlords remain scat
 tered throughout the galaxy. As the fledgling New Republic works to prote
 ct everything the Rebellion fought for\, they have enlisted the help of l
 egendary Mandalorian bounty hunter Din Djarin and his young apprentice Gr
 ogu.
DTEND;VALUE=DATE:20260521
DTSTAMP:20260426T014917Z
DTSTART;VALUE=DATE:20260520
SEQUENCE:0
STATUS:TENTATIVE
SUMMARY:Star Wars: The Mandalorian and Grogu (Theatrical Release)
UID:Radarr_movie_1831_cinemas
END:VEVENT
BEGIN:VEVENT
CATEGORIES:Pixar
DESCRIPTION:Scientists have discovered how to 'hop' human consciousness in
 to lifelike robotic animals\, allowing people to communicate with animals
  as animals. Animal lover Mabel seizes an opportunity to use the technolo
 gy\, uncovering mysteries within the animal world beyond anything she cou
 ld have imagined.
DTEND;VALUE=DATE:20260305
DTSTAMP:20260426T014917Z
DTSTART;VALUE=DATE:20260304
SEQUENCE:0
STATUS:CONFIRMED
SUMMARY:Hoppers (Theatrical Release)
UID:Radarr_movie_4116_cinemas
END:VEVENT
BEGIN:VEVENT
CATEGORIES:Pixar
DESCRIPTION:Scientists have discovered how to 'hop' human consciousness in
 to lifelike robotic animals\, allowing people to communicate with animals
  as animals. Animal lover Mabel seizes an opportunity to use the technolo
 gy\, uncovering mysteries within the animal world beyond anything she cou
 ld have imagined.
DTEND;VALUE=DATE:20260429
DTSTAMP:20260426T014917Z
DTSTART;VALUE=DATE:20260428
SEQUENCE:0
STATUS:CONFIRMED
SUMMARY:Hoppers (Digital Release)
UID:Radarr_movie_4116_digital
END:VEVENT
BEGIN:VEVENT
CATEGORIES:Nocturna
DESCRIPTION:A woman answers a help wanted ad to be a housekeeper in a myst
 erious New York City high-rise\, unaware that she is entering a community
  that has seen a number of disappearances over the years and may be under
  the grip of a Satanic cult.
DTEND;VALUE=DATE:20260326
DTSTAMP:20260426T014917Z
DTSTART;VALUE=DATE:20260325
SEQUENCE:0
STATUS:CONFIRMED
SUMMARY:They Will Kill You (Theatrical Release)
UID:Radarr_movie_4118_cinemas
END:VEVENT
BEGIN:VEVENT
CATEGORIES:Nocturna
DESCRIPTION:A woman answers a help wanted ad to be a housekeeper in a myst
 erious New York City high-rise\, unaware that she is entering a community
  that has seen a number of disappearances over the years and may be under
  the grip of a Satanic cult.
DTEND;VALUE=DATE:20260429
DTSTAMP:20260426T014917Z
DTSTART;VALUE=DATE:20260428
SEQUENCE:0
STATUS:CONFIRMED
SUMMARY:They Will Kill You (Digital Release)
UID:Radarr_movie_4118_digital
END:VEVENT
BEGIN:VEVENT
CATEGORIES:Spooky Pictures
DESCRIPTION:When novelist Ohm Bauman retreats to a remote inn to scatter h
 is parents' ashes\, he is consumed by tales of a witch haunting the honey
 moon suite. Disturbing visions and a shocking disappearance forces him to
  confront dark corners of his past.
DTEND;VALUE=DATE:20260430
DTSTAMP:20260426T014917Z
DTSTART;VALUE=DATE:20260429
SEQUENCE:0
STATUS:TENTATIVE
SUMMARY:Hokum (Theatrical Release)
UID:Radarr_movie_4131_cinemas
END:VEVENT
BEGIN:VEVENT
CATEGORIES:Done+Dusted
DESCRIPTION:Considered one of the most fearless voices in modern comedy\, 
 Nikki Glaser delivers a brutally honest special that takes on aging\, bea
 uty\, and fame - confronting what it means to stay relevant\, desirable\,
  and real in a culture that never looks away.
DTEND;VALUE=DATE:20260425
DTSTAMP:20260426T014917Z
DTSTART;VALUE=DATE:20260424
SEQUENCE:0
STATUS:CONFIRMED
SUMMARY:Nikki Glaser: Good Girl (Digital Release)
UID:Radarr_movie_4140_digital
END:VEVENT
BEGIN:VEVENT
CATEGORIES:87North Productions
DESCRIPTION:A dysfunctional couple head to a remote cabin to "reconnect"\,
  but each has secret intentions to kill the other.
DTEND;VALUE=DATE:20260515
DTSTAMP:20260426T014917Z
DTSTART;VALUE=DATE:20260514
SEQUENCE:0
STATUS:TENTATIVE
SUMMARY:Over Your Dead Body (Theatrical Release)
UID:Radarr_movie_4153_cinemas
END:VEVENT
BEGIN:VEVENT
CATEGORIES:Savage Rose Films
DESCRIPTION:A fearless crew of inventive young women turns shoplifting int
 o a radical act of defiance. Led by Corvette\, they move across Oakland\,
  boosting coveted goods as both survival and protest—challenging a system
  built on exclusion and excess. They even offer a community service\, sel
 ling their stolen wares at deep discounts to make fashion accessible to a
 ll. When their exploits draw unwanted viral attention and their feud with
  fashion mogul Christine Smith turns personal\, the Boosters plan one fin
 al\, audacious heist. Joined by unexpected allies wielding supernatural p
 owers and time-bending technology\, they discover a chance to ignite revo
 lutionary change.
DTEND;VALUE=DATE:20260523
DTSTAMP:20260426T014917Z
DTSTART;VALUE=DATE:20260522
SEQUENCE:0
STATUS:TENTATIVE
SUMMARY:I Love Boosters (Theatrical Release)
UID:Radarr_movie_4158_cinemas
END:VEVENT
BEGIN:VEVENT
CATEGORIES:Art & Industry
DESCRIPTION:Lisa Ann Walter's long-awaited debut comedy special takes on f
 eral Gen-Xers\, self-loathing\, and navigating a backsliding America\, vi
 a the no-filter lens of a grown-ass woman who has been paying attention.
DTEND;VALUE=DATE:20260516
DTSTAMP:20260426T014917Z
DTSTART;VALUE=DATE:20260515
SEQUENCE:0
STATUS:TENTATIVE
SUMMARY:Lisa Ann Walter: It Was an Accident (Digital Release)
UID:Radarr_movie_4174_digital
END:VEVENT
BEGIN:VEVENT
CATEGORIES:Aperture Media Partners
DESCRIPTION:Interim sheriff Ulysses\, called to the snowbound town of Norm
 al\, MN\, uncovers an international criminal conspiracy at the heart of t
 he seemingly quaint whistle-stop when he comes to the aid of a bank-robbi
 ng couple caught up in a deadly mess.
DTEND;VALUE=DATE:20260417
DTSTAMP:20260426T014917Z
DTSTART;VALUE=DATE:20260416
SEQUENCE:0
STATUS:CONFIRMED
SUMMARY:Normal (Theatrical Release)
UID:Radarr_movie_4178_cinemas
END:VEVENT
BEGIN:VEVENT
CATEGORIES:Aperture Media Partners
DESCRIPTION:Interim sheriff Ulysses\, called to the snowbound town of Norm
 al\, MN\, uncovers an international criminal conspiracy at the heart of t
 he seemingly quaint whistle-stop when he comes to the aid of a bank-robbi
 ng couple caught up in a deadly mess.
DTEND;VALUE=DATE:20260520
DTSTAMP:20260426T014917Z
DTSTART;VALUE=DATE:20260519
SEQUENCE:0
STATUS:CONFIRMED
SUMMARY:Normal (Digital Release)
UID:Radarr_movie_4178_digital
END:VEVENT
BEGIN:VEVENT
CATEGORIES:Aperture Media Partners
DESCRIPTION:Interim sheriff Ulysses\, called to the snowbound town of Norm
 al\, MN\, uncovers an international criminal conspiracy at the heart of t
 he seemingly quaint whistle-stop when he comes to the aid of a bank-robbi
 ng couple caught up in a deadly mess.
DTEND;VALUE=DATE:20260801
DTSTAMP:20260426T014917Z
DTSTART;VALUE=DATE:20260731
SEQUENCE:0
STATUS:CONFIRMED
SUMMARY:Normal (Physical Release)
UID:Radarr_movie_4178_physical
END:VEVENT
BEGIN:VEVENT
CATEGORIES:18Hz Productions
DESCRIPTION:After a young couple witnesses a gruesome highway accident\, t
 hey soon realize they did not leave the crash scene alone\, as a demonic 
 presence called the Passenger that won't stop until it claims them both t
 urns their van life adventure into a nightmare.
DTEND;VALUE=DATE:20260521
DTSTAMP:20260426T014917Z
DTSTART;VALUE=DATE:20260520
SEQUENCE:0
STATUS:TENTATIVE
SUMMARY:Passenger (Theatrical Release)
UID:Radarr_movie_4186_cinemas
END:VEVENT
BEGIN:VEVENT
CATEGORIES:Working Title Films
DESCRIPTION:George is a shepherd who reads detective novels to his beloved
  sheep every night\, assuming they can't possibly understand. But when a 
 mysterious incident disrupts life on the farm\, the sheep realize they mu
 st become the detectives. As they follow the clues and investigate human 
 suspects\, they prove that even sheep can be brilliant crime-solvers.
DTEND;VALUE=DATE:20260507
DTSTAMP:20260426T014917Z
DTSTART;VALUE=DATE:20260506
SEQUENCE:0
STATUS:TENTATIVE
SUMMARY:The Sheep Detectives (Theatrical Release)
UID:Radarr_movie_4200_cinemas
END:VEVENT
END:VCALENDAR
